0.00000000000000
0.09000000000000
0.09000000000000
-0.00000000000000
691777.67725495971000
224531.54368591626000
