0.00000000000000
0.09000000000000
0.09000000000000
-0.00000000000000
691771.67725495971000
225824.54368591626000
