0.00000000000000
0.09000000000000
0.09000000000000
-0.00000000000000
691756.67725495971000
226343.54368591626000
