0.00000000000000
0.09000000000000
0.09000000000000
-0.00000000000000
691748.67725495971000
226914.54368591626000
