0.00000000000000
0.09000000000000
0.09000000000000
-0.00000000000000
691742.67725495971000
228610.54368591626000
