0.00000000000000
0.09000000000000
0.09000000000000
-0.00000000000000
691757.14382996131000
237962.82869868391000
