0.00000000000000
0.09000000000000
0.09000000000000
-0.00000000000000
691762.14382996131000
241526.82869868391000
