0.00000000000000
0.09000000000000
0.09000000000000
-0.00000000000000
691768.14382996131000
242028.82869868391000
