0.00000000000000
0.09000000000000
0.09000000000000
-0.00000000000000
691760.14382996131000
244074.82869868391000
