0.00000000000000
0.09000000000000
0.09000000000000
-0.00000000000000
691770.14382996131000
246301.82869868391000
