-0.00000000000000
-0.09000000000000
-0.09000000000000
0.00000000000000
692541.62943004002000
226706.59931153021000
