-0.00000000000000
-0.09000000000000
-0.09000000000000
0.00000000000000
692511.62943004002000
231128.59931153021000
