-0.00000000000000
-0.09000000000000
-0.09000000000000
0.00000000000000
692517.62943004002000
231802.59931153021000
