-0.00000000000000
-0.09000000000000
-0.09000000000000
0.00000000000000
692514.62943004002000
233599.59931153021000
