0.00000000000000
0.09000000000000
0.09000000000000
-0.00000000000000
690670.14382996131000
234579.82869868391000
