0.00000000000000
0.09000000000000
0.09000000000000
-0.00000000000000
690666.14382996131000
240560.82869868391000
