0.00000000000000
0.09000000000000
0.09000000000000
-0.00000000000000
690654.14382996131000
243493.82869868391000
