0.00000000000000
0.09000000000000
0.09000000000000
-0.00000000000000
690650.14382996131000
244080.82869868391000
