-0.00000000000000
-0.09000000000000
-0.09000000000000
0.00000000000000
692485.85617003869000
250932.17130131609000
