0.00000000000000
0.09000000000000
0.09000000000000
-0.00000000000000
689583.14382996131000
230746.82869868391000
