0.00000000000000
0.09000000000000
0.09000000000000
-0.00000000000000
689577.14382996131000
232378.82869868391000
