0.00000000000000
0.09000000000000
0.09000000000000
-0.00000000000000
689576.83714496170000
236866.68570123744000
