0.00000000000000
0.09000000000000
0.09000000000000
-0.00000000000000
689562.83714496170000
239089.68570123744000
