0.00000000000000
0.09000000000000
0.09000000000000
-0.00000000000000
689590.83714496170000
244895.68570123744000
