0.00000000000000
0.09000000000000
0.09000000000000
-0.00000000000000
689580.83714496170000
245969.68570123744000
