0.00000000000000
0.09000000000000
0.09000000000000
-0.00000000000000
689590.83714496170000
247078.68570123744000
