-0.00000000000000
-0.10000000000000
-0.10000000000000
0.00000000000000
717846.39537393232000
241541.95591380325000
