0.00000000000000
0.10000000000000
0.10000000000000
-0.00000000000000
714854.60462606768000
240811.04408619675000
