-0.00000000000000
-0.10000000000000
-0.10000000000000
0.00000000000000
715538.39537393232000
237342.95591380325000
