-0.00000000000000
-0.10000000000000
-0.10000000000000
0.00000000000000
715544.39537393232000
239044.95591380325000
