-0.00000000000000
-0.10000000000000
-0.10000000000000
0.00000000000000
715536.39537393232000
240848.95591380325000
