-0.00000000000000
-0.10000000000000
-0.10000000000000
0.00000000000000
715531.39537393232000
245404.95591380325000
