-0.00000000000000
-0.10000000000000
-0.10000000000000
0.00000000000000
715524.39537393232000
246649.95591380325000
