0.00000000000000
0.10000000000000
0.10000000000000
-0.00000000000000
712614.60462606768000
239144.04408619675000
