0.00000000000000
0.10000000000000
0.10000000000000
-0.00000000000000
712620.60462606768000
243536.04408619675000
