0.00000000000000
0.10000000000000
0.10000000000000
-0.00000000000000
712637.60462606768000
248206.04408619675000
