-0.00000000000000
-0.10000000000000
-0.10000000000000
0.00000000000000
713354.39537393232000
239814.95591380325000
