-0.00000000000000
-0.10000000000000
-0.10000000000000
0.00000000000000
713339.39537393232000
241034.95591380325000
