-0.00000000000000
-0.10000000000000
-0.10000000000000
0.00000000000000
713351.39537393232000
243417.95591380325000
