-0.00000000000000
-0.10000000000000
-0.10000000000000
0.00000000000000
713351.39537393232000
244075.95591380325000
