-0.00000000000000
-0.10000000000000
-0.10000000000000
0.00000000000000
713335.39537393232000
248733.95591380325000
