-0.00000000000000
-0.10000000000000
-0.10000000000000
0.00000000000000
713375.39537393232000
253539.95591380325000
