-0.00000000000000
-0.10000000000000
-0.10000000000000
0.00000000000000
713369.39537393232000
254136.95591380325000
