-0.00000000000000
-0.10000000000000
-0.10000000000000
0.00000000000000
713367.39537393232000
254738.95591380325000
