0.00000000000000
0.10000000000000
0.10000000000000
-0.00000000000000
710437.60462606768000
245312.04408619675000
