0.00000000000000
0.10000000000000
0.10000000000000
-0.00000000000000
710464.60462606768000
250051.04408619675000
