0.00000000000000
0.10000000000000
0.10000000000000
-0.00000000000000
710456.60462606768000
250670.04408619675000
