0.00000000000000
0.10000000000000
0.10000000000000
-0.00000000000000
709352.60462606768000
234948.04408619675000
