0.00000000000000
0.10000000000000
0.10000000000000
-0.00000000000000
709368.60462606768000
238115.04408619675000
