0.00000000000000
0.10000000000000
0.10000000000000
-0.00000000000000
709373.60462606768000
239315.04408619675000
